BEGIN:VCALENDAR
VERSION:2.0
PRODID:-//ChamberMaster//Event Calendar 2.0//EN
METHOD:PUBLISH
X-PUBLISHED-TTL:P3D
REFRESH-INTERVAL:P3D
CALSCALE:GREGORIAN
BEGIN:VEVENT
DTSTART;VALUE=DATE:20230201
DTEND;VALUE=DATE:20230202
TRANSP:TRANSPARENT
X-MICROSOFT-CDO-ALLDAYEVENT:TRUE
SUMMARY:Chamber Office Closed
DESCRIPTION:The Chamber Office will be closed on Wednesday\, February 1\, 2023. We will reopen at 8:00 a.m. on Thursday\, February 2\, 2023 We apologize for any inconvenience and thank you for your patience!
X-ALT-DESC;FMTTYPE=text/html:<br />\nThe Chamber Office will be closed on Wednesday\, February 1\, 2023. We will reopen at 8:00 a.m. on Thursday\, February 2\, 2023 We apologize for any inconvenience and thank you for your patience!
LOCATION:Park Hills - Leadington Chamber of Commerce Office
UID:e.1642.11325
SEQUENCE:3
DTSTAMP:20260423T173725Z
URL:https://business.phlcoc.net/events/details/chamber-office-closed-11325
END:VEVENT

END:VCALENDAR
