BEGIN:VCALENDAR
VERSION:2.0
PRODID:-//ChamberMaster//Event Calendar 2.0//EN
METHOD:PUBLISH
X-PUBLISHED-TTL:P3D
REFRESH-INTERVAL:P3D
CALSCALE:GREGORIAN
BEGIN:VEVENT
DTSTART;VALUE=DATE:20200904
DTEND;VALUE=DATE:20200905
TRANSP:TRANSPARENT
X-MICROSOFT-CDO-ALLDAYEVENT:TRUE
SUMMARY:Chamber Office Closed
DESCRIPTION:The Chamber Office will be closed Thursday\, September 3\, 2020\, through Tuesday\, September 8\, 2020.\n\n\n\nWe will reopen at 9:00 a.m. on Wednesday\, September 9\, 2020.\n\n\n\nWe apologize for any inconvenience and hope you have a safe\, healthy\, and fun Labor Day weekend!
X-ALT-DESC;FMTTYPE=text/html:The Chamber Office will be closed Thursday\, September 3\, 2020\, through Tuesday\, September 8\, 2020.<br />\n<br />\nWe will reopen at 9:00 a.m. on Wednesday\, September 9\, 2020.<br />\n<br />\nWe apologize for any inconvenience and hope you have a safe\, healthy\, and fun Labor Day weekend!
LOCATION:Park Hills - Leadington Chamber of Commerce Office
UID:e.1642.10157
SEQUENCE:3
DTSTAMP:20260421T013509Z
URL:https://business.phlcoc.net/events/details/chamber-office-closed-09-04-2020-10157
END:VEVENT

END:VCALENDAR
