BEGIN:VCALENDAR
VERSION:2.0
PRODID:-//ChamberMaster//Event Calendar 2.0//EN
METHOD:PUBLISH
X-PUBLISHED-TTL:P3D
REFRESH-INTERVAL:P3D
CALSCALE:GREGORIAN
BEGIN:VEVENT
DTSTART:20200909T130000Z
DTEND:20200909T140000Z
X-MICROSOFT-CDO-ALLDAYEVENT:FALSE
SUMMARY:Chamber Board of Directors Meeting via ZOOM
DESCRIPTION:The Park Hills - Leadington Chamber of Commerce Board of Directors meets monthly to discuss chamber business\, finances\, events\, committee updates\, and important legislative issues when needed.\n\n\n\nThese are closed business meetings scheduled for the appointed Chamber of Commerce board members.
X-ALT-DESC;FMTTYPE=text/html:The Park Hills - Leadington Chamber of Commerce Board of Directors meets monthly to discuss chamber business\, finances\, events\, committee updates\, and important legislative issues when needed.<br>\n<br>\nThese are closed business meetings scheduled for the appointed Chamber of Commerce board members.
LOCATION:ZOOM Meeting
UID:e.1642.9916
SEQUENCE:3
DTSTAMP:20260421T000009Z
URL:https://business.phlcoc.net/events/details/chamber-board-of-directors-meeting-via-zoom-9916
END:VEVENT

END:VCALENDAR
