BEGIN:VCALENDAR
VERSION:2.0
PRODID:-//ChamberMaster//Event Calendar 2.0//EN
METHOD:PUBLISH
X-PUBLISHED-TTL:P3D
REFRESH-INTERVAL:P3D
CALSCALE:GREGORIAN
BEGIN:VEVENT
DTSTART;VALUE=DATE:20201204
DTEND;VALUE=DATE:20201207
TRANSP:TRANSPARENT
X-MICROSOFT-CDO-ALLDAYEVENT:TRUE
SUMMARY:CASA of the Parkland’s 1st Annual Festival of Trees
DESCRIPTION:CASA of the Parkland's 1st annual Festival of Trees will be opening at Farmington City Hall immediately following the Christmas Parade!\n\n\n\nFestival of Trees\n\n\n	Friday\, December 4\, 2020\, from 2:00 p.m. to 8:00 p.m.\n	Saturday\, December 5\, 2020\, from 9:00 a.m. to 8:00 p.m.\n	Sunday\, December 6\, 2020\, from 12:00 p.m. to 8:00 p.m.\n\n\nOnline Silent Auction\n\n\n	Friday\, December 4\, 2020\, 2:00 p.m.\n	Saturday\, December 5\, 2020\, 8:00 p.m.\n\n\nWalk through a forest of brightly lit and beautifully decorated Christmas Trees as you make your way to Santa and Mrs. Claus.\n\n\n\nAll Christmas Trees will be designed by local businesses and organizations. Through a silent auction\, all trees will be available for a chance to win your favorite fully decorated Christmas Tree to enjoy at home or business.\n\n \n\nAll proceeds from the silent auction go directly to Court Appointed Special Advocates (CASA) of the Parkland's training and advocacy for abused and neglected children in foster care throughout the 24th Judicial Circuit (St. Francois\, Madison\, Washington\, Ste. Genevieve counties).\n\n \n\n\n	Click Here for Tree Designer Guidelines\n	Click Here for a Designer Application\n\n\nIf you are interested in designing a tree or becoming a sponsor for this wondrous event please contact JoAnna Watts at JoAnna.Watts@casaoftheparkland.org\, by calling (573) 326-9594 or visit casaoftheparkland.org.
X-ALT-DESC;FMTTYPE=text/html:<div>CASA of the Parkland&rsquo\;s 1st annual Festival of Trees will be opening at Farmington City Hall immediately following the Christmas Parade!<br />\n<br />\n<strong>Festival of Trees</strong></div>\n\n<ul>\n	<li>Friday\, December 4\, 2020\, from 2:00 p.m. to 8:00 p.m.</li>\n	<li>Saturday\, December 5\, 2020\, from 9:00 a.m. to 8:00 p.m.</li>\n	<li>Sunday\, December 6\, 2020\, from 12:00 p.m. to 8:00 p.m.</li>\n</ul>\n\n<div><strong>Online Silent Auction</strong></div>\n\n<ul>\n	<li>Friday\, December 4\, 2020\, 2:00 p.m.</li>\n	<li>Saturday\, December 5\, 2020\, 8:00 p.m.</li>\n</ul>\n\n<div>Walk through a forest of brightly lit and beautifully decorated Christmas Trees as you make your way to Santa and Mrs. Claus.<br />\n<br />\nAll Christmas Trees will be designed by local businesses and organizations. Through a silent auction\, all trees will be available for a chance to win your favorite fully decorated Christmas Tree to enjoy at home or business.<br />\n&nbsp\;</div>\n\n<div>All proceeds from the silent auction go directly to Court Appointed Special Advocates (CASA) of the Parkland&#39\;s training and advocacy for abused and neglected children in foster care throughout the 24th Judicial Circuit (St. Francois\, Madison\, Washington\, Ste. Genevieve counties).<br />\n&nbsp\;</div>\n\n<ul>\n	<li><a href="https://chambermaster.blob.core.windows.net/userfiles/UserFiles/chambers/1642/File/DesignerGuidelines.pdf">Click Here for Tree Designer Guidelines</a></li>\n	<li><a href="https://chambermaster.blob.core.windows.net/userfiles/UserFiles/chambers/1642/File/DesignerApplication2020.pdf">Click Here for a Designer Application</a></li>\n</ul>\n\n<div>If you are interested in designing a tree or becoming a sponsor for this wondrous event please contact JoAnna Watts at <a href="mailto:JoAnna.Watts@casaoftheparkland.org">JoAnna.Watts@casaoftheparkland.org</a>\, by calling (573) 326-9594 or visit&nbsp\;<a class="oajrlxb2 g5ia77u1 qu0x051f esr5mh6w e9989ue4 r7d6kgcz rq0escxv nhd2j8a9 nc684nl6 p7hjln8o kvgmc6g5 cxmmr5t8 oygrvhab hcukyx3x jb3vyjys rz4wbd8a qt6c0cv9 a8nywdso i1ao9s8h esuyzwwr f1sip0of lzcic4wl py34i1dx gpro0wi8" href="https://l.facebook.com/l.php?u=http%3A%2F%2Fcasaoftheparkland.org%2F%3Ffbclid%3DIwAR1hvBwEoxgKiAEpqQm8H_h4D1K28FRhZ-cR6viT-jisPj5KIMyWiA_FPa8&amp\;h=AT3yO-SyHYrN35fn_OIs9V_Znkd3LA0jIniQPLGJYOZv4qVByAD5QxE7KWj7d7ndCGe2KYZAoLgeGh7wck5Etc7dC-Q9zag1pu2sWCeGwI-Y1KCCZQodjsu2Z5r9zDi80A" rel="nofollow noopener" style="color: var(--blue-link)\; cursor: pointer\; text-decoration-line: none\; outline: none\; list-style: none\; border-width: 0px\; border-style: initial\; border-color: initial\; padding: 0px\; margin: 0px\; touch-action: manipulation\; background-color: transparent\; text-align: inherit\; display: inline\; -webkit-tap-highlight-color: transparent\; box-sizing: border-box\; font-family: inherit\;" tabindex="0" target="_blank">casaoftheparkland.org.</a></div>\n
LOCATION:
UID:e.1642.10196
SEQUENCE:3
DTSTAMP:20260420T165337Z
URL:https://business.phlcoc.net/events/details/casa-of-the-parkland-s-1st-annual-festival-of-trees-10196
END:VEVENT

END:VCALENDAR
