BEGIN:VCALENDAR
VERSION:2.0
PRODID:-//ChamberMaster//Event Calendar 2.0//EN
METHOD:PUBLISH
X-PUBLISHED-TTL:P3D
REFRESH-INTERVAL:P3D
CALSCALE:GREGORIAN
BEGIN:VEVENT
DTSTART:20200915T170000Z
DTEND:20200915T180000Z
X-MICROSOFT-CDO-ALLDAYEVENT:FALSE
SUMMARY:**CANCELED** Investor Meeting - September 15\, 2020
DESCRIPTION:With our County currently listed as being in the RED Zone and the number of COVID cases rising rapidly\, the Chamber Board has opted to adhear to guidelines recommended by the St. Francois County Health Department and the CDC. Those guidelines recommend no gathering of more than 10 individuals\, therefore\, this event has been canceled.\n\n\n\nPlease join us for the September Investor Meeting on Tuesday\, September 15\, 2020\, at\, 12:00 p.m. at the Mineral Area College North College Center.\n\n\n\nThis Month's Program:\n\nCome to this month's luncheon and learn about the new Park Hills Historic Preservation Committee. Organizers\, Chris and Derrick Hulsey will be joining us to explain how the committee was formed\, what the goals of the organization are\, and why this committee is so important.\n\n\n\nThis Month's "Center Stage Investor":\n\nMissouri Job Center. Join us at their location on September 4th for the First Friday Coffee and then learn more about them as they take Center Stage for a 3-minute commercial at this month's Investor Meeting!\n\nThis Month's Menu:\n\nBeef Brisket\, Roasted Potatoes\, Grilled Veggies\, Salad\, Dessert\, Tea & Water.\n\n\n\nLunch will be catered by MAC's American Vending Corp. and available for purchase at a cost of $10.00 per person for Chamber Investors or $15 per person for Non-Chamber Investors. \n\n\n\nRESERVATIONS REQUIRED!\n\n50/50 Drawing! Be sure to bring a $1 to be entered for a chance to win some cash!\n\n\n\nPHOTO RELEASE NOTICE: When you attend a Park Hills - Leadington Chamber of Commerce event\,  you enter an area where photography\, audio\, and video recording may occur. By entering the event premises\, you waive all rights to any claims for payment or royalties in connection with any use via advertising\, web\, social media\, televising\, or other publication of these materials.  You also waive any right to inspect or approve any photo\, video\, or audio recording taken by the Park Hills - Leadington Chamber of Commerce or the person or entity designated to do so by the Park Hills - Leadington Chamber of Commerce. This notice serves as your consent\, waiver of liability\, and release upon entering the event. Please let our photographer or another staff member know if you prefer not to be photographed. Thank you for attending this Park Hills - Leadington Chamber of Commerce Signature Event!\n\n\n\nMonthly investor meetings provide Chamber investors with a variety of information through guest speakers.  Topics range from small business information to governmental issues and assistance to community interests.  Monthly meetings keep investors abreast of current chamber happenings and provide an excellent networking opportunity.
X-ALT-DESC;FMTTYPE=text/html:<p><strong style="color: rgb(255\, 0\, 0)\;">With our County currently listed as being in the RED Zone and the number of COVID cases rising rapidly\, the Chamber Board has opted to adhear to guidelines recommended by the St. Francois County Health Department and the CDC. Those guidelines recommend no gathering of more than 10 individuals\, therefore\, this event has been canceled.</strong><br />\n<br />\n<span style="font-size:14px\;">Please join us for the September&nbsp\;Investor Meeting on Tuesday\, September 15\, 2020\, at\, 12:00 p.m. at the<span style="color:#000000\;">&nbsp\;<strong>Mineral Area College&nbsp\;North College Center</strong>.</span><br />\n<br />\n<strong>This Month&#39\;s Program:</strong><br />\nCome to this month&#39\;s luncheon and learn about the new <strong>Park Hills Historic Preservation Committee</strong>. Organizers\, Chris and Derrick Hulsey will be joining us to explain how the&nbsp\;committee was formed\, what the goals of the organization are\, and why this committee is so important.<br />\n<br />\n<strong>This Month&#39\;s &quot\;Center Stage Investor&quot\;:</strong><br />\n<strong><a href="https://business.phlcoc.net/list/member/missouri-job-center-153">Missouri&nbsp\;Job Center.</a>&nbsp\;</strong>Join us at their location on September 4th for the&nbsp\;First Friday Coffee and then learn more about them as they take Center Stage for a 3-minute commercial at&nbsp\;this month&#39\;s Investor Meeting!</span></p>\n\n<p><span style="font-size:14px\;"><strong>This Month&#39\;s Menu:</strong><br />\nBeef Brisket\, Roasted Potatoes\, Grilled Veggies\,&nbsp\;Salad\,&nbsp\;Dessert\,&nbsp\;Tea &amp\; Water.<br />\n<br />\nLunch will be catered by MAC&#39\;s American Vending Corp. and available for purchase at a&nbsp\;cost of $10.00 per person for Chamber Investors or $15 per person for Non-Chamber Investors.&#8203\;<br />\n<br />\n<strong><span style="color: rgb(255\, 0\, 0)\;">RESERVATIONS REQUIRED!</span></strong></span></p>\n\n<p><span style="font-size:14px\;"><span style="color: rgb(255\, 0\, 0)\;"><strong>50/50 Drawing!</strong></span>&nbsp\;Be sure to bring a $1 to be entered for a chance to win some cash!</span><br />\n<br />\n<strong style="font-size: 12px\;">PHOTO RELEASE NOTICE:</strong><span style="font-size: 12px\;">&nbsp\;When you attend a Park Hills - Leadington Chamber of Commerce event\,&nbsp\; you enter an area where photography\, audio\, and video recording may occur. By entering the event premises\, you waive all rights to any claims for payment or royalties in connection with any use via advertising\, web\, social media\, televising\, or other publication of these materials.&nbsp\; You also waive any right to inspect or approve any photo\, video\, or audio recording taken by the Park Hills - Leadington Chamber of Commerce or the person or entity designated to do so by the Park Hills - Leadington Chamber of Commerce. This notice serves as your consent\, waiver of liability\, and release upon entering the event. Please let our photographer or another staff member know if you prefer not to be photographed. Thank you for attending this Park Hills - Leadington Chamber of Commerce Signature Event!</span><br />\n<br />\n<em><span style="font-family: calibri\, sans-serif\;">Monthly investor meetings provide Chamber investors with a variety of information through guest speakers.&nbsp\; Topics range from small business information to governmental issues and assistance to community interests.&nbsp\; Monthly meetings keep investors abreast of current chamber happenings and provide an excellent networking opportunity.</span></em></p>\n
LOCATION:Mineral Area College North College Center
UID:e.1642.10010
SEQUENCE:3
DTSTAMP:20260421T013710Z
URL:https://business.phlcoc.net/events/details/canceled-investor-meeting-september-15-2020-10010
END:VEVENT

END:VCALENDAR
