BEGIN:VCALENDAR
VERSION:2.0
PRODID:-//ChamberMaster//Event Calendar 2.0//EN
METHOD:PUBLISH
X-PUBLISHED-TTL:P3D
REFRESH-INTERVAL:P3D
CALSCALE:GREGORIAN
BEGIN:VEVENT
DTSTART:20240412T230000Z
DTEND:20240413T020000Z
X-MICROSOFT-CDO-ALLDAYEVENT:FALSE
SUMMARY:Bob Leon Returns to Fyre Lake Winery for an Unforgettable Performance
DESCRIPTION:Cadet\, MO - Acclaimed artist Bob Leon is set to captivate audiences once more with his mesmerizing performance at Fyre Lake Winery. Known for his exceptional talent and engaging stage presence\, Bob Leon promises an evening of musical excellence that is not to be missed.\n\n\n\nBob Leon's unique blend of soulful melodies and captivating lyrics will enchant guests as he takes the stage at Fyre Lake Winery. With a reputation for delivering unforgettable performances\, Bob Leon is sure to leave the audience wanting more.\n\n\n\nJoin us at Fyre Lake Winery for an evening filled with music\, wine\, and memories that will last a lifetime. Don't miss this opportunity to experience the magic of Bob Leon live on stage.\n\n\n\nAbout Fyre Lake Winery:\n\nLocated in Cadet\, MO\, Fyre Lake Winery offers a picturesque setting amidst rolling vineyards. Known for its exquisite wines and charming ambiance\, Fyre Lake Winery provides a perfect backdrop for unforgettable events and live performances. Whether you're a wine enthusiast or a music lover\, Fyre Lake Winery is the ideal destination to indulge in fine wines while enjoying top-notch entertainment.
X-ALT-DESC;FMTTYPE=text/html:<br />\n<span style="font-size:16px\;"><strong>Cadet\, MO -</strong> Acclaimed artist Bob Leon is set to captivate audiences once more with his mesmerizing performance at Fyre Lake Winery. Known for his exceptional talent and engaging stage presence\, Bob Leon promises an evening of musical excellence that is not to be missed.<br />\n<br />\nBob Leon&#39\;s unique blend of soulful melodies and captivating lyrics will enchant guests as he takes the stage at Fyre Lake Winery. With a reputation for delivering unforgettable performances\, Bob Leon is sure to leave the audience wanting more.<br />\n<br />\nJoin us at Fyre Lake Winery for an evening filled with music\, wine\, and memories that will last a lifetime. Don&#39\;t miss this opportunity to experience the magic of Bob Leon live on stage.<br />\n<br />\n<strong>About Fyre Lake Winery:</strong><br />\n<em>Located in Cadet\, MO\, Fyre Lake Winery offers a picturesque setting amidst rolling vineyards. Known for its exquisite wines and charming ambiance\, Fyre Lake Winery provides a perfect backdrop for unforgettable events and live performances. Whether you&#39\;re a wine enthusiast or a music lover\, Fyre Lake Winery is the ideal destination to indulge in fine wines while enjoying top-notch entertainment.</em></span>
LOCATION:Fyre Lake Winery
UID:e.1642.12092
SEQUENCE:3
DTSTAMP:20260425T131137Z
URL:https://business.phlcoc.net/events/details/bob-leon-returns-to-fyre-lake-winery-for-an-unforgettable-performance-12092
END:VEVENT

END:VCALENDAR
