BEGIN:VCALENDAR
VERSION:2.0
PRODID:-//ChamberMaster//Event Calendar 2.0//EN
METHOD:PUBLISH
X-PUBLISHED-TTL:P3D
REFRESH-INTERVAL:P3D
CALSCALE:GREGORIAN
BEGIN:VEVENT
DTSTART:20220812T160000Z
DTEND:20220812T190000Z
X-MICROSOFT-CDO-ALLDAYEVENT:FALSE
SUMMARY:BBQ Fundraiser for the Uplift Center
DESCRIPTION:You're invited to a BBQ Fundraiser for the Uplift Shelter on Friday\, August 12\, 2022\, from 11 a.m. to 2 p.m. at the Uplift Center Parking Lot located behind the old Mineral Area Regional Medical Center.\n\n\n\nChoose From:\n\n	Pork Steak Plate $10\n	Hamburger Plate $7\n	Hot Dog Plate $5\n\n Plates include baked beans\, chips\, a drink\, and your choice of coleslaw or potato salad.\n\n\n\nLarge group pre-orders can be made until 5 p.m. on August 8th.\n\n\n\nDelivery available for orders of 5 or more.\n\n\n\nTo place an order\, call Ken at 573-516-2616\n\n\n\nThe Uplift Shelter for Better Living is an East Missouri Action Agency Program.
X-ALT-DESC;FMTTYPE=text/html:<br />\n<span style="font-size:16px\;">You&#39\;re invited to a BBQ Fundraiser for the Uplift Shelter on Friday\, August 12\, 2022\, from 11 a.m. to 2 p.m. at the Uplift Center Parking Lot located behind the old Mineral Area Regional Medical Center.<br />\n<br />\nChoose From:</span>\n<ul>\n	<li><span style="font-size:16px\;">Pork Steak Plate $10</span></li>\n	<li><span style="font-size:16px\;">Hamburger Plate $7</span></li>\n	<li><span style="font-size:16px\;">Hot Dog Plate $5</span></li>\n</ul>\n<span style="font-size:16px\;"> Plates include baked beans\, chips\, a drink\, and your choice of coleslaw or potato salad.<br />\n<br />\nLarge group pre-orders can be made until 5 p.m. on August 8th.<br />\n<br />\nDelivery available for orders of 5 or more.<br />\n<br />\nTo place an order\, call Ken at 573-516-2616<br />\n<br />\nThe Uplift Shelter for Better Living is an East Missouri Action Agency Program.</span>
LOCATION:
UID:e.1642.11157
SEQUENCE:3
DTSTAMP:20260421T105541Z
URL:https://business.phlcoc.net/events/details/bbq-fundraiser-for-the-uplift-center-11157
END:VEVENT

END:VCALENDAR
