BEGIN:VCALENDAR
VERSION:2.0
PRODID:-//ChamberMaster//Event Calendar 2.0//EN
METHOD:PUBLISH
X-PUBLISHED-TTL:P3D
REFRESH-INTERVAL:P3D
CALSCALE:GREGORIAN
BEGIN:VEVENT
DTSTART:20230121T233000Z
DTEND:20230122T040000Z
X-MICROSOFT-CDO-ALLDAYEVENT:FALSE
SUMMARY:Annual Awards Banquet 2023
DESCRIPTION:You're invited to join us for a night of celebration\, entertainment\, DENIM\, & DIAMONDS! The Chamber's Annual Awards Banquet is a night you won't soon forget! The evening includes some fabulous food\, unique entertainment\, and recognition of some pretty remarkable people!\n\n\n\nThe Evening's Agenda\n\n\n\n	5:30 p.m. to 6:30 p.m. Social Hour with Drinks & Hor d'oeuvres (full cash bar provided by Twin Oaks Winery)\n	6:30 p.m. to 7:30 p.m. Dinner Catered by Glenda Straughn\n	7:30 p.m. to 8:30 p.m. Conner Lorre as "Neil Diamond" and other famous singers!\n	8:30 p.m. to 10:00 p.m. The Awards Ceremony\n\n\nThe main event is the presentation of awards to various chamber investors and deserving individuals.  Awards to include:\n\n\n	"Chamber's Friend" - Presented by The Park Hills - Leadington Chamber of Commerce\n	"Lifetime Achievement Award" - Presented by The Park Hills - Leadington Chamber of Commerce\n	"Kelly Valley Sweat Equity Award" - Presented by KFMO/B104 Radio\n	"110% Award" - Presented by KREI/KTJJ Radio\n	"Service Above Self Award" - Presented by The St. Francois County Rotary\n	"Citizen of the Year Award" - Presented by The Daily Journal\n\n\n\n\nFeaturing: Conner Lorre\n\nConner Lorre is a critically acclaimed singer that performs internationally thrilling his audiences as a Singing Impressionist and as a Neil Diamond Impersonator.  The one word most often used to describe Conner's voice is "AMAZING".\n\n\nConner Lorre's spectacular "Neil Diamond Tribute Show" features stunningly accurate re-creations of Neil Diamond's most fun and recognizable hits.\n\nConner has the look\, the mannerisms\, the energy\, and most importantly\, Conner has the charismatic voice of Neil Diamond.\n\nAs a genuine lifelong Neil Diamond fan himself\, Conner sings every song with dedicated precision and undeniable passion. He hits every single note in one take.\nHis show may also contain impersonations of several other great names in music such as Frank Sinatra\, Dean Martin\, Elvis Presley\, Tom Jones\, Frankie Valli\, Paul McCartney\, Jimmy Buffett\, and others!\n\n\n\nDenim & Diamonds!!!\n\nGrab the be-dazzler and come dressed in blue jeans & bling!! This year's dress code is denim & diamonds!\n\n \n\n\nGet your tickets now!\n\nDon't miss out! Reserve your tickets now. Advanced tickets only! No tickets are sold at the door. The cost is $30.00 per person for Chamber Investors or $45 for Non-Chamber Investors.\n\n\n\nRESERVATIONS ARE DUE BY JANUARY 16\, 2023!\n\n\n\nFor more information\, call the Chamber office at 573-431-1051.\n\nClick the link to the right to reserve your tickets now!\n\nWe hope you'll plan to join us!\n\n\n\nPHOTO RELEASE NOTICE: When you attend a Park Hills - Leadington Chamber of Commerce event\, you enter an area where photography\, audio\, and video recording may occur. By entering the event premises\, you waive all rights to any claims for payment or royalties in connection with any use via advertising\, web\, social media\, televising\, or other publication of these materials.  You also waive any right to inspect or approve any photo\, video\, or audio recording taken by the Park Hills - Leadington Chamber of Commerce or the person or entity designated to do so by the Park Hills - Leadington Chamber of Commerce. This notice serves as your consent\, waiver of liability\, and release upon entering the event. Please let our photographer or another staff member know if you prefer not to be photographed. Thank you for attending this Park Hills - Leadington Chamber of Commerce Signature Event!
X-ALT-DESC;FMTTYPE=text/html:<p><br />\n<span style="font-size:16px\;">You&#39\;re invited to join us for a night of celebration\, entertainment\, DENIM\, &amp\; DIAMONDS! The Chamber&#39\;s Annual Awards Banquet is a night you won&#39\;t soon forget! The evening includes some fabulous food\, unique entertainment\, and recognition of some pretty remarkable people!<br />\n<br />\n<strong style="font-size: 14px\;">The Evening&#39\;s Agenda</strong></span></p>\n\n<div>\n<ul>\n	<li><span style="font-size:16px\;">5:30 p.m. to 6:30 p.m. <strong>Social Hour with Drinks &amp\; Hor d&#39\;oeuvres</strong> (full cash bar provided by Twin Oaks Winery)</span></li>\n	<li><span style="font-size:16px\;">6:30 p.m. to 7:30 p.m. <strong>Dinner Catered by Glenda Straughn</strong></span></li>\n	<li><span style="font-size:16px\;">7:30 p.m. to 8:30 p.m.&nbsp\;<strong>Conner Lorre as &quot\;Neil Diamond&quot\; and other famous singers!</strong></span></li>\n	<li><span style="font-size:16px\;">8:30 p.m. to 10:00 p.m. <strong>The Awards Ceremony</strong></span></li>\n</ul>\n\n<p><span style="font-size:16px\;">The main event is the presentation of&nbsp\;awards to&nbsp\;various chamber investors and deserving individuals.&nbsp\; Awards to include:</span></p>\n\n<ul>\n	<li><span style="font-size:16px\;">&quot\;<strong>Chamber&#39\;s Friend</strong>&quot\; - Presented by The Park Hills - Leadington Chamber of Commerce</span></li>\n	<li><span style="font-size:16px\;">&quot\;<strong>Lifetime Achievement Award</strong>&quot\;&nbsp\;- Presented by The Park Hills - Leadington Chamber of Commerce</span></li>\n	<li><span style="font-size:16px\;">&quot\;<strong>Kelly Valley Sweat Equity Award</strong>&quot\; - Presented by KFMO/B104 Radio</span></li>\n	<li><span style="font-size:16px\;">&quot\;<strong>110% Award</strong>&quot\; - Presented by&nbsp\;KREI/KTJJ Radio</span></li>\n	<li><span style="font-size:16px\;">&quot\;<strong>Service Above Self Award</strong>&quot\; -&nbsp\;Presented by The St. Francois County Rotary</span></li>\n	<li><span style="font-size:16px\;">&quot\;<strong>Citizen of the Year Award</strong>&quot\; -&nbsp\;Presented by The Daily Journal</span></li>\n</ul>\n\n<p><br />\n<span style="font-size:16px\;"><strong>Featuring: Conner Lorre</strong><br />\nConner Lorre is a critically acclaimed singer that performs internationally thrilling his audiences as a Singing Impressionist and as a Neil Diamond Impersonator.&nbsp\; The one word most often used to describe Conner&#39\;s voice is &quot\;AMAZING&quot\;.</span></p>\n\n<div>\n<p><span style="font-size:16px\;">Conner Lorre&#39\;s spectacular &quot\;Neil Diamond Tribute Show&quot\;&nbsp\;features stunningly accurate re-creations of Neil Diamond&#39\;s most fun and recognizable hits.</span></p>\n\n<p><span style="font-size:16px\;">Conner has the look\, the mannerisms\, the energy\, and most importantly\, Conner has the charismatic voice of Neil Diamond.</span></p>\n\n<p><span style="font-size:16px\;">As a genuine lifelong Neil Diamond fan himself\, Conner sings every song with dedicated precision and undeniable passion. He hits every single note in one take.</span></p>\n<span style="font-size:16px\;">His show may also contain impersonations of several other great names in music such as Frank Sinatra\, Dean Martin\, Elvis Presley\, Tom Jones\, Frankie Valli\, Paul McCartney\, Jimmy Buffett\, and others!</span><br />\n<br />\n<span style="font-size:16px\;"><strong>Denim &amp\; Diamonds!!!</strong><br />\nGrab the be-dazzler and come dressed in blue jeans &amp\; bling!! This year&#39\;s dress code is denim &amp\; diamonds!</span><br />\n&nbsp\;</div>\n</div>\n\n<div><span style="font-size:16px\;"><strong>Get your tickets now!</strong><br />\nDon&#39\;t miss out! Reserve your tickets now. Advanced tickets only! No tickets are sold at the door.&nbsp\;The cost is $30.00 per person for Chamber Investors or $45&nbsp\;for Non-Chamber Investors.<br />\n<br />\n<span style="color:#FF0000\;"><strong>RESERVATIONS ARE DUE BY JANUARY 16\, 2023!</strong></span><br />\n<br />\nFor more information\, call the Chamber office at 573-431-1051.<br />\nClick the link to the right to reserve your tickets now!</span></div>\n\n<p><span style="font-size:16px\;">We hope you&#39\;ll plan to join us!</span><br />\n<br />\n<strong style="font-size: 9px\;">PHOTO RELEASE NOTICE:</strong><span style="font-size: 10px\;">&nbsp\;When you attend a Park Hills - Leadington Chamber of Commerce event\,&nbsp\;you enter an area where photography\, audio\, and video recording may occur. By entering the event premises\, you waive all rights to any claims for payment or royalties in connection with any use via advertising\, web\, social media\, televising\, or other publication of these materials.&nbsp\; You also waive any right to inspect or approve any photo\, video\, or audio recording taken by the Park Hills - Leadington Chamber of Commerce or the person or entity designated to do so by the Park Hills - Leadington Chamber of Commerce. This notice serves as your consent\, waiver of liability\, and release upon entering the event. Please let our photographer or another staff member know if you prefer not to be photographed. Thank you for attending this Park Hills - Leadington Chamber of Commerce Signature Event!</span></p>\n
LOCATION:The White Magnolia Banquet Hall
UID:e.1642.11310
SEQUENCE:3
DTSTAMP:20260423T161713Z
URL:https://business.phlcoc.net/events/details/annual-awards-banquet-2023-11310
END:VEVENT

END:VCALENDAR
