BEGIN:VCALENDAR
VERSION:2.0
PRODID:-//ChamberMaster//Event Calendar 2.0//EN
METHOD:PUBLISH
X-PUBLISHED-TTL:P3D
REFRESH-INTERVAL:P3D
CALSCALE:GREGORIAN
BEGIN:VEVENT
DTSTART:20201017T120000Z
DTEND:20201018T010000Z
X-MICROSOFT-CDO-ALLDAYEVENT:FALSE
SUMMARY:American Cross Country Challenge at St. Joe State Park
DESCRIPTION:St. Joe State Park 2020 Special Events\n\n\n\nUse the Missouri Mines State Historic Site Entrance.  This UTV only event will determine the championship for this series.  Sponsored by AXCC   Andy Kyner   515.971.3136 - axccracing.com. The ORV Riding Area will be open 7 AM   8 PM for general riding.\n\n\n\nNOTICE TO ALL PARK USERS\n\nPortions of the Bicycle Trails\, the Horse Trails\, and/or the Off-Road Vehicle Riding Area may be closed due to a Special Event.
X-ALT-DESC;FMTTYPE=text/html:<p><span style="font-size:14px"><strong>St. Joe State Park 2020 Special Events</strong><br />\n<br />\nUse the Missouri Mines State Historic Site Entrance.&nbsp\; This UTV only event will determine the championship for this series.&nbsp\; Sponsored by AXCC &ndash\; Andy Kyner &ndash\; 515.971.3136 - <a href="http://axccracing.com">axccracing.com</a>.&nbsp\;The ORV Riding Area will be open 7 AM &ndash\; 8 PM for general riding.<br />\n<br />\n<strong>NOTICE TO ALL PARK USERS</strong><br />\nPortions of the Bicycle Trails\, the Horse Trails\, and/or the Off-Road Vehicle Riding Area may be closed due to a Special Event.</span></p>\n
LOCATION:St. Joe State Park
UID:e.1642.10144
SEQUENCE:3
DTSTAMP:20260419T215914Z
URL:https://business.phlcoc.net/events/details/american-cross-country-challenge-at-st-joe-state-park-10144
END:VEVENT

END:VCALENDAR
