BEGIN:VCALENDAR
VERSION:2.0
PRODID:-//ChamberMaster//Event Calendar 2.0//EN
METHOD:PUBLISH
X-PUBLISHED-TTL:P3D
REFRESH-INTERVAL:P3D
CALSCALE:GREGORIAN
BEGIN:VEVENT
DTSTART:20230210T223000Z
DTEND:20230211T000000Z
X-MICROSOFT-CDO-ALLDAYEVENT:FALSE
SUMMARY:After Work Social! At the Ragin' Rooster!
DESCRIPTION:Join us for an After Work Social on Friday\, February 10\, 2023\, at The Ragin' Rooster Irish Pub from 4:30 p.m. to 6:00 p.m. \n\n\n\nAfter Work Socials are OPEN-HOUSE STYLE events\, allowing guests to arrive at any time during the event and stay as little or as long as they'd like.\n\n\n\nLocated at 201 Houser Street in Park Hills\, The Ragin' Rooster is a modern Irish Pub\, newly opened\, and offering a high-end solution to dining in the area. Their menu items are made from scratch and are designed to provide a pleasing twist to the pub and grill scene.\n\n\n\nWe hope you'll join us for our next After Work Social!
X-ALT-DESC;FMTTYPE=text/html:<br />\n<span style="font-size: 16px\;">Join us for an</span><span style="font-size: 16px\;">&nbsp\;After Work Social on&nbsp\;</span><strong style="font-size: 16px\;">Friday\, February 10\, 2023\, </strong><span style="font-size:16px\;">at&nbsp\;<strong>The Ragin&#39\; Rooster Irish Pub</strong>&nbsp\;from&nbsp\;</span><strong style="font-size: 16px\;">4:30 p.m. to 6:00 p.m.</strong><span style="font-size: 16px\;">&nbsp\;<br />\n<br />\nAfter Work Socials are&nbsp\;</span><strong style="font-size: 16px\;">OPEN-HOUSE STYLE</strong><span style="font-size: 16px\;">&nbsp\;events\, allowing guests to arrive at any time during the event and stay as little or as long as they&rsquo\;d like.</span><br />\n<br />\n<span style="font-size:16px\;">Located at 201 Houser Street in Park Hills\, The Ragin&#39\; Rooster is a modern Irish Pub\, newly opened\, and offering a high-end solution to dining in the area. Their menu items are made from scratch and are designed to provide a pleasing twist to the pub and grill scene.</span><br />\n<br />\n<span style="font-size: 16px\;">We hope you&rsquo\;ll join us for our next After Work Social!</span>
LOCATION:Hosted by & Held at: The Ragin Rooster Irish Pub
UID:e.1642.11324
SEQUENCE:3
DTSTAMP:20260423T174933Z
URL:https://business.phlcoc.net/events/details/after-work-social-at-the-ragin-rooster-11324
END:VEVENT

END:VCALENDAR
