BEGIN:VCALENDAR
VERSION:2.0
PRODID:-//ChamberMaster//Event Calendar 2.0//EN
METHOD:PUBLISH
X-PUBLISHED-TTL:P3D
REFRESH-INTERVAL:P3D
CALSCALE:GREGORIAN
BEGIN:VEVENT
DTSTART:20210626T000000Z
DTEND:20210626T020000Z
X-MICROSOFT-CDO-ALLDAYEVENT:FALSE
SUMMARY:2021 Summer Concert Series - Concert #2 - Midnight Special Band
DESCRIPTION:The Park Hills Parks & Recreation Department & First State Community Bank are Excited to Bring You "Midnight Special Band"!\n\nThe second concert of the 2021 series is scheduled for Friday\, June 25\, 2021\, from 7:00 p.m. to  9:00 p.m. and features "Midnight Special Band"!\n\nMidnight Special is a classic rock band featuring six seasoned musicians who play a wide variety of dance tunes that guarantees a filled dance floor.\n\nThis concert will be held at the Columbia Park Amphitheater. Attendees are encouraged to bring a blanket or lawn chair for seating along with their favorite drinks and snacks. Alcohol is strictly prohibited in Columbia Park.\n\nSummer concerts are hosted by the Park Hills Parks & Recreation Department. All concerts are FREE to the public!\n\nIn case of inclement weather\, contact the Parks Department at 573-431-0478\, check their Facebook page\, or check the City's Facebook page.
X-ALT-DESC;FMTTYPE=text/html:<p><span style="font-size:16px">The Park Hills Parks &amp\; Recreation Department &amp\; <strong>First State Community Bank</strong> are Excited to Bring You &quot\;<em>Midnight Special Band</em>&quot\;!</span></p>\n\n<p><span style="font-size:16px">The second concert of the 2021 series is scheduled for Friday\, June 25\, 2021\, from 7:00 p.m. to&nbsp\; 9:00 p.m. and features &quot\;<em>Midnight Special Band</em>&quot\;!</span></p>\n\n<p><span style="font-size:16px">Midnight Special is a classic rock band featuring six seasoned musicians who&nbsp\;play a wide variety of dance tunes that guarantees a filled dance floor.</span></p>\n\n<p><span style="font-size:16px">This concert will be held at the&nbsp\;Columbia Park Amphitheater. Attendees are encouraged to bring a blanket or lawn chair for seating along with their favorite drinks and snacks. Alcohol is strictly prohibited in Columbia Park.</span></p>\n\n<p><span style="font-size:16px">Summer concerts are hosted by the Park Hills Parks &amp\; Recreation Department. All concerts are&nbsp\;<strong>FREE</strong>&nbsp\;to the public!</span></p>\n\n<p><span style="font-size:16px">In case of inclement weather\, contact the Parks Department at 573-431-0478\, check their Facebook page\, or check the City&#39\;s Facebook page.</span></p>\n
LOCATION:Columbia Park\, Park Hills\, MO
UID:e.1642.10528
SEQUENCE:3
DTSTAMP:20260420T110926Z
URL:https://business.phlcoc.net/events/details/2021-summer-concert-series-concert-2-midnight-special-band-10528
END:VEVENT

END:VCALENDAR
