BEGIN:VCALENDAR
VERSION:2.0
PRODID:-//ChamberMaster//Event Calendar 2.0//EN
METHOD:PUBLISH
X-PUBLISHED-TTL:P3D
REFRESH-INTERVAL:P3D
CALSCALE:GREGORIAN
BEGIN:VEVENT
DTSTART:20210612T000000Z
DTEND:20210612T020000Z
X-MICROSOFT-CDO-ALLDAYEVENT:FALSE
SUMMARY:2021 Summer Concert Series - Concert #1 - Tailgate Troubadours
DESCRIPTION:The Park Hills Parks & Recreation Department & US Bank are Excited to Bring You "Tailgate Troubadours"!\n\n\n\nThe first concert of the 2021 series is scheduled for Friday\, June 11\, 2021\, at 7:00 p.m. and features "Tailgate Troubadours"!\n\n\n\nThis is a new local band featuring classic and new country music!!!\n\n\n\nThis concert will be held at the Columbia Park Amphitheater. Attendees are encouraged to bring a blanket or lawn chair for seating along with their favorite drinks and snacks. Alcohol is strictly prohibited in Columbia Park.\n\n\n\nSummer concerts are hosted by the Park Hills Parks & Recreation Department. All concerts are FREE to the public!\n\n\n\nIn case of inclement weather\, contact the Parks Department at 573-431-0478\, check their Facebook page\, or check the City's Facebook page.
X-ALT-DESC;FMTTYPE=text/html:<span style="font-size:16px">The Park Hills Parks &amp\; Recreation Department &amp\; <strong>US Bank</strong> are Excited to Bring You &quot\;<em>Tailgate Troubadours</em>&quot\;!<br />\n<br />\nThe first concert of the 2021 series is scheduled for Friday\, June 11\, 2021\, at 7:00 p.m. and features &quot\;<em>Tailgate Troubadours</em>&quot\;!<br />\n<br />\nThis is a new local band featuring classic and new country music!!!<br />\n<br />\nThis concert will be held at the&nbsp\;Columbia Park Amphitheater. Attendees are encouraged to bring a blanket or lawn chair for seating along with their favorite drinks and snacks. Alcohol is strictly prohibited in Columbia Park.<br />\n<br />\nSummer concerts are hosted by the Park Hills Parks &amp\; Recreation Department. All concerts are&nbsp\;<strong>FREE</strong>&nbsp\;to the public!<br />\n<br />\nIn case of inclement weather\, contact the Parks Department at 573-431-0478\, check their Facebook page\, or check the City&#39\;s Facebook page.</span>
LOCATION:Columbia Park\, Park Hills\, MO
UID:e.1642.10527
SEQUENCE:3
DTSTAMP:20260420T123054Z
URL:https://business.phlcoc.net/events/details/2021-summer-concert-series-concert-1-tailgate-troubadours-10527
END:VEVENT

END:VCALENDAR
