BEGIN:VCALENDAR
VERSION:2.0
PRODID:-//ChamberMaster//Event Calendar 2.0//EN
METHOD:PUBLISH
X-PUBLISHED-TTL:P3D
REFRESH-INTERVAL:P3D
CALSCALE:GREGORIAN
BEGIN:VEVENT
DTSTART:20210626T113000Z
DTEND:20210626T153000Z
X-MICROSOFT-CDO-ALLDAYEVENT:FALSE
SUMMARY:17th Annual Firecracker Run
DESCRIPTION:ONLINE REGISTRATION ENDS AT 12:00 NOON\, FRIDAY\, JUNE 25\, 2021. REGISTRATIONS WILL STILL BE ACCEPTED THE DAY OF THE EVENT BEGINNING AT 6:30 A.M.\n\n\n\n17th Annual Firecracker Run\n\nSponsored by Parkland Health Mart Pharmacy & Jerry's Fireworks\n\nHosted by The Park Hills - Leadington Chamber of Commerce\n\nBenefiting the Park Hills - Leadington Chamber of Commerce Scholarship Fund!\n\n\n\nSATURDAY\, JUNE 26\, 2021\n\n	1-Mile Walk or Run\n	5K Walk or Run\n	Begins & Ends at Central High School\n	T-Shirts to the First 150 Entries\n	Timed By Cape Road Runners\n	All Ages Welcome\n\n**NEW FOR 2021**\n\n\n	Earlier Start Time: We have moved the start time for the races! The 1 Mile Run will begin at 7:30 this year with the 5K beginning at 8:00 a.m.\n\nRUNNERS - 1-MILE & 5K\n\n\n	Age Groups: 10 & Under\, 11-14\, 15-19\, 20-29\, 30-39\, 40-49\, 50 & Up. \n	Awards: Best Overall Male & Female and Top Three Male/Female Per Category In 1-Mile & 5K \n	Official Timing: 1-Mile & 5K Runs timed by the Cape Road Runners.\n	Race Start Times: The 1-Mile Run Begins at 7:30 a.m.  The 5K Run Begins at 8:00 a.m. \n\nWALKERS - 1-MILE & 5K\n\n\n	Age Groups:  All Ages Welcome\n	Awards:  All Walkers to Receive Participation Ribbons\n	Timing: WALKERS will NOT be timed.\n	Walk Start Time: Both Walks Begin at Approximately 8:05 a.m.\n\n  THE COURSES\n\n\n	All Events: Begin and end at Central High School. Miles will be marked. The Business Challenge will follow the 5K course.\n	Course Maps: Available at the Chamber Office or by clicking here: 1-MILE COURSE MAP or 5K COURSE MAP \n\nPRICING & OTHER DETAILS\n\n\n	Early Registration Pricing: Registration fees for participants registering by June 23rd are as follows:\n\n	\n		Individuals: $20.00\n		Families: $35.00 Per Family. No more than 5 family members per registration.\n	\n	\n	Regular Registration Fees: Registration fee if paid after June 23rd are as follows:\n	\n		$25.00 Per Each Runner/Walker\n		No Family Rates after June 23. Everyone registers as an individual.\n	\n	\n	Family Discounts: Families (up to 5 members) $35.00 Per Family.  No Family Pricing after June 23rd.\n	Day Of Registration & Check In: Begins at 6:30 a.m. on race day.\n	T-Shirts:  Commemorative shirt to the First 100 Entries.  Sizes based on availability.\n\n**EARLY BIRD REGISTRATION GIVEAWAY**\n\nParticipants registering before June 14th will be entered in a Drawing for a Special Prize Courtesy of Parkland Health Mart Pharmacy! \n\n\n\n**BEST DRESSED PRIZE**\n\nDress in your very best red\, white\, and blue or other patriotic gear for a chance to win a special trophy and gift!\n\n\n\n**$500 FIREWORKS PACKAGE GIVEAWAY**\n\nOne lucky participant will receive a Fireworks Package valued at $500 Courtesy of Jerry's Fireworks.  Must be present to win! Winners under the age of 18 must have a qualified adult present to collect the prize.\n\n\n\nBENEFITTING THE PARK HILLS SCHOLARSHIP FUND\n\nA portion of your registration fee goes to the Park Hills - Leadington Chamber of Commerce Scholarship Fund.  Providing FOUR graduating\, Central High School Students\, who will be attending one of our local colleges - Mineral Area College\, Central Methodist University\, or Missouri Baptist University - with a $500 scholarship to assist with tuition\, books\, and/or other college necessities.\n\n\n\nPHOTO RELEASE NOTICE: When you attend a Park Hills - Leadington Chamber of Commerce event\, you enter an area where photography\, audio\, and video recording may occur. By entering the event premises\, you waive all rights to any claims for payment or royalties in connection with any use via advertising\, web\, social media\, televising\, or other publication of these materials.  You also waive any right to inspect or approve any photo\, video\, or audio recording taken by the Park Hills - Leadington Chamber of Commerce or the person or entity designated to do so by the Park Hills - Leadington Chamber of Commerce. This notice serves as your consent\, waiver of liability\, and release upon entering the event. Please let our photographer or another staff member know if you prefer not to be photographed. Thank you for attending this Park Hills - Leadington Chamber of Commerce Signature Event!
X-ALT-DESC;FMTTYPE=text/html:<span style="color:#FF0000\;"><strong>ONLINE REGISTRATION ENDS AT 12:00 NOON\, FRIDAY\, JUNE 25\, 2021. REGISTRATIONS WILL STILL BE ACCEPTED THE DAY OF THE EVENT BEGINNING AT 6:30 A.M.</strong></span><br />\n<br />\n<strong><span style="font-size:20px\;">17th Annual Firecracker Run</span><br />\n<span style="font-size:16px\;">Sponsored by Parkland Health Mart Pharmacy &amp\; Jerry&#39\;s Fireworks<br />\nHosted by The Park Hills - Leadington Chamber of Commerce</span></strong><br />\n<span style="color:#0000CD\;"><strong>Benefiting the Park Hills - Leadington Chamber of Commerce Scholarship Fund!</strong></span><br />\n<br />\n<span style="font-size:16px\;"><strong>SATURDAY\, JUNE 26\, 2021</strong></span>\n<ul>\n	<li>1-Mile Walk or Run</li>\n	<li>5K Walk or Run</li>\n	<li>Begins &amp\; Ends at Central High School</li>\n	<li>T-Shirts to the First 150 Entries</li>\n	<li>Timed By Cape Road Runners</li>\n	<li>All Ages Welcome</li>\n</ul>\n<strong><span style="font-size: 18px\;"><span style="color: rgb(255\, 0\, 0)\;">**NEW FOR 2021**</span></span></strong>\n\n<ul>\n	<li><span style="color: rgb(255\, 0\, 0)\;"><strong>Earlier Start Time:</strong></span>&nbsp\;We have moved the start time for the races! The 1 Mile Run will begin at 7:30 this year with the 5K beginning at 8:00 a.m.</li>\n</ul>\n<span style="font-size:16px\;"><strong>RUNNERS - 1-MILE &amp\; 5K</strong></span>\n\n<ul>\n	<li><span style="color:#FF0000\;"><strong>Age Groups:</strong></span>&nbsp\;10 &amp\; Under\, 11-14\, 15-19\, 20-29\, 30-39\, 40-49\, 50 &amp\; Up.&nbsp\;</li>\n	<li><span style="color:#FF0000\;"><strong>Awards:&nbsp\;</strong></span>Best Overall Male &amp\; Female and Top Three Male/Female Per Category In 1-Mile &amp\; 5K&nbsp\;</li>\n	<li><span style="color:#FF0000\;"><strong>Official Timing:</strong></span> 1-Mile &amp\; 5K Runs timed by the Cape Road Runners.</li>\n	<li><span style="color:#FF0000\;"><strong>Race Start Times:</strong></span> The 1-Mile Run Begins at 7:30 a.m.&nbsp\; The 5K Run Begins at 8:00 a.m.&#8203\;</li>\n</ul>\n<span style="font-size:16px\;"><strong>WALKERS - 1-MILE &amp\; 5K</strong></span>\n\n<ul>\n	<li><span style="color:#FF0000\;"><strong>Age Groups:&nbsp\;</strong></span> All Ages Welcome</li>\n	<li><span style="color:#FF0000\;"><strong>Awards:&nbsp\;</strong></span> All Walkers to Receive Participation Ribbons</li>\n	<li><span style="color:#FF0000\;"><strong>Timing:</strong></span> WALKERS will NOT be timed.</li>\n	<li><span style="color:#FF0000\;"><strong>Walk Start Time: </strong></span>Both Walks Begin at Approximately 8:05&nbsp\;a.m.</li>\n</ul>\n<span style="font-size:16px\;"><strong>&nbsp\;</strong></span> <span style="font-size:16px\;"><strong>THE COURSES</strong></span>\n\n<ul>\n	<li><span style="color:#FF0000\;"><strong>All Events:</strong></span> Begin and end&nbsp\;at Central High School. Miles will be marked. The Business Challenge will follow the 5K course.</li>\n	<li><span style="color:#FF0000\;"><strong>Course Maps: </strong></span>Available at the Chamber Office or by clicking here: <strong><a href="https://chambermaster.blob.core.windows.net/userfiles/UserFiles/chambers/1642/File/1MileCourseMap1.pdf">1-MILE&nbsp\;COURSE MAP</a> or <a href="https://chambermaster.blob.core.windows.net/userfiles/UserFiles/chambers/1642/File/5KCourseMap1.pdf">5K COURSE MAP</a> </strong></li>\n</ul>\n<span style="font-size:16px\;"><strong>PRICING &amp\; OTHER DETAILS</strong></span>\n\n<ul>\n	<li><span style="color:#FF0000\;"><strong>Early Registration Pricing:</strong></span>&nbsp\;Registration fees for participants registering&nbsp\;<strong>by June 23rd</strong>&nbsp\;are as follows:\n\n	<ul>\n		<li>Individuals: $20.00</li>\n		<li>Families: $35.00 Per Family. No more than&nbsp\;5 family members per registration.</li>\n	</ul>\n	</li>\n	<li><strong><span style="color:#FF0000\;">Regular Registration Fees:</span></strong>&nbsp\;Registration fee if paid <strong>after June 23rd</strong>&nbsp\;are as follows:\n	<ul>\n		<li>$25.00 Per Each Runner/Walker</li>\n		<li><strong>No Family Rates after June 23</strong>. Everyone registers as an individual.</li>\n	</ul>\n	</li>\n	<li><span style="color:#FF0000\;"><strong>Family Discounts:</strong></span> Families (up to 5 members) $35.00 Per Family.&nbsp\; <strong>No Family Pricing after June 23rd.</strong></li>\n	<li><span style="color:#FF0000\;"><strong>Day Of Registration &amp\; Check In:</strong></span> Begins at 6:30 a.m. on race day.</li>\n	<li><span style="color:#FF0000\;"><strong>T-Shirts:</strong></span>&nbsp\; Commemorative shirt to the First 100 Entries.&nbsp\; Sizes based on availability.</li>\n</ul>\n<strong style="color: rgb(255\, 0\, 0)\; font-size: 18px\;">**EARLY BIRD REGISTRATION GIVEAWAY**</strong><br />\nParticipants registering <strong>before June 14th</strong>&nbsp\;will be entered in a&nbsp\;<strong>Drawing for a Special Prize Courtesy&nbsp\;of Parkland Health Mart Pharmacy</strong>!&nbsp\;<br />\n<br />\n<span style="font-size:14px\;"><span style="color:#FF0000\;"><span style="font-size:18px\;"><strong>**BEST DRESSED PRIZE**</strong></span></span><br />\nDress in your very best&nbsp\;<strong>red\, white\, and blue&nbsp\;</strong>or other&nbsp\;<strong>patriotic gear</strong>&nbsp\;for a chance to&nbsp\;<strong>win a&nbsp\;special trophy and gift</strong>!</span><br />\n<br />\n<span style="font-size:18px\;"><span style="color: rgb(255\, 0\, 0)\;"><strong>**$500 FIREWORKS PACKAGE GIVEAWAY**</strong></span></span><br />\nOne lucky participant will receive a Fireworks Package valued at $500 <strong>Courtesy of Jerry&#39\;s Fireworks</strong>.&nbsp\; Must be present to win! Winners under the age of 18 must have a qualified adult present to collect the prize.\n\n<p><br />\n<strong style="color: rgb(255\, 0\, 0)\; font-size: 18px\;">BENEFITTING THE PARK HILLS SCHOLARSHIP FUND</strong><br />\nA portion of your registration fee goes to the Park Hills - Leadington Chamber of Commerce Scholarship Fund.&nbsp\; Providing <strong>FOUR</strong>&nbsp\;graduating\, Central High School Students\, who will be attending one of our local colleges - Mineral Area College\, Central Methodist University\, or Missouri Baptist University - with a $500&nbsp\;scholarship to assist with tuition\, books\, and/or other college necessities.<br />\n<br />\n<span style="font-size:10px\;"><strong style="font-size: 9px\;">PHOTO RELEASE NOTICE:</strong>&nbsp\;When you attend a Park Hills - Leadington Chamber of Commerce event\,&nbsp\;you enter an area where photography\, audio\, and video recording may occur. By entering the event premises\, you waive all rights to any claims for payment or royalties in connection with any use via advertising\, web\, social media\, televising\, or other publication of these materials.&nbsp\; You also waive any right to inspect or approve any photo\, video\, or audio recording taken by the Park Hills - Leadington Chamber of Commerce or the person or entity designated to do so by the Park Hills - Leadington Chamber of Commerce. This notice serves as your consent\, waiver of liability\, and release upon entering the event. Please let our photographer or another staff member know if you prefer not to be photographed. Thank you for attending this Park Hills - Leadington Chamber of Commerce Signature Event!</span></p>\n
LOCATION:Central High School
UID:e.1642.10524
SEQUENCE:3
DTSTAMP:20260420T104010Z
URL:https://business.phlcoc.net/events/details/17th-annual-firecracker-run-10524
END:VEVENT

END:VCALENDAR
